BEGIN:VCALENDAR
VERSION:2.0
PRODID:-//CSAMP - ECPv6.15.20//NONSGML v1.0//EN
CALSCALE:GREGORIAN
METHOD:PUBLISH
X-ORIGINAL-URL:https://csamp.utoronto.ca
X-WR-CALDESC:Events for CSAMP
REFRESH-INTERVAL;VALUE=DURATION:PT1H
X-Robots-Tag:noindex
X-PUBLISHED-TTL:PT1H
BEGIN:VTIMEZONE
TZID:America/Toronto
BEGIN:DAYLIGHT
TZOFFSETFROM:-0500
TZOFFSETTO:-0400
TZNAME:EDT
DTSTART:20240310T070000
END:DAYLIGHT
BEGIN:STANDARD
TZOFFSETFROM:-0400
TZOFFSETTO:-0500
TZNAME:EST
DTSTART:20241103T060000
END:STANDARD
BEGIN:DAYLIGHT
TZOFFSETFROM:-0500
TZOFFSETTO:-0400
TZNAME:EDT
DTSTART:20250309T070000
END:DAYLIGHT
BEGIN:STANDARD
TZOFFSETFROM:-0400
TZOFFSETTO:-0500
TZNAME:EST
DTSTART:20251102T060000
END:STANDARD
BEGIN:DAYLIGHT
TZOFFSETFROM:-0500
TZOFFSETTO:-0400
TZNAME:EDT
DTSTART:20260308T070000
END:DAYLIGHT
BEGIN:STANDARD
TZOFFSETFROM:-0400
TZOFFSETTO:-0500
TZNAME:EST
DTSTART:20261101T060000
END:STANDARD
BEGIN:DAYLIGHT
TZOFFSETFROM:-0500
TZOFFSETTO:-0400
TZNAME:EDT
DTSTART:20270314T070000
END:DAYLIGHT
BEGIN:STANDARD
TZOFFSETFROM:-0400
TZOFFSETTO:-0500
TZNAME:EST
DTSTART:20271107T060000
END:STANDARD
END:VTIMEZONE
BEGIN:VEVENT
DTSTART;TZID=America/Toronto:20260406T161000
DTEND;TZID=America/Toronto:20260406T180000
DTSTAMP:20260421T115925
CREATED:20251208T185828Z
LAST-MODIFIED:20260202T204250Z
UID:3829-1775491800-1775498400@csamp.utoronto.ca
SUMMARY:CSAMP Proseminar: Pia Morar
DESCRIPTION:title: “Why Socrates Cheats”
URL:https://csamp.utoronto.ca/event/csamp-proseminar-pia-morar/
LOCATION:Lillian Massey Building\, Room 205\, 125 Queens Park\, Toronto\, ON\, M5S 2C7\, Canada
ORGANIZER;CN="CSAMP":MAILTO:csamp@utoronto.ca
END:VEVENT
BEGIN:VEVENT
DTSTART;TZID=America/Toronto:20260330T161000
DTEND;TZID=America/Toronto:20260330T180000
DTSTAMP:20260421T115925
CREATED:20251208T185845Z
LAST-MODIFIED:20260330T113129Z
UID:3837-1774887000-1774893600@csamp.utoronto.ca
SUMMARY:CSAMP Proseminar: Marko Malink (New York University)
DESCRIPTION:The Origins of Propositional Logic Theophrastus on Hypothetical Syllogisms March 2026 \nTitle: “The Origins of Propositional Logic: Theophrastus on Hypothetical Syllogisms” \nAbstract:\nTheophrastus\, Aristotle’s pupil and eventual successor as head of the Peripatos\, developed a theory of hypothetical syllogisms in which he sought to reduce various modes of propositional reasoning to categorical syllogisms. Jonathan Barnes has argued that Theophrastus’ attempted reduction of propositional to categorical logic is incoherent and “doomed to failure”. Others have gone still further\, denying that Theophrastus’ hypothetical syllogistic constitutes any sort of contribution to the study of propositional logic at all. The present paper offers\, in place of such negative assessments\, an alternative view of what we shall argue are\, in fact\, significant and noteworthy achievements on Theophrastus’ part in the field of propositional logic. We reconstruct Theophrastus’ calculus and show that it gives rise to a coherent and natural system of propositional logic (namely\, first-degree intensional linear logic). This system captures exactly the early Peripatetic theories of wholly and mixed hypothetical syllogisms. Theophrastus’ calculus also underwrites Aristotle’s rule of reductio ad impossibile and his commitment to the connexive law that no proposition entails its own negation. This is joint work with Anubav Vasudevan (University of Chicago). \n 
URL:https://csamp.utoronto.ca/event/csamp-proseminar-marko-malink/
LOCATION:Lillian Massey Building\, Room 205\, 125 Queens Park\, Toronto\, ON\, M5S 2C7\, Canada
ORGANIZER;CN="CSAMP":MAILTO:csamp@utoronto.ca
END:VEVENT
BEGIN:VEVENT
DTSTART;TZID=America/Toronto:20260323T161000
DTEND;TZID=America/Toronto:20260323T180000
DTSTAMP:20260421T115925
CREATED:20251208T185830Z
LAST-MODIFIED:20260319T153736Z
UID:3836-1774282200-1774288800@csamp.utoronto.ca
SUMMARY:CSAMP Proseminar: Simone Luigi Migliaro
DESCRIPTION:Title: “Does the Brain Speak Mentalese? Revisiting Fodor Through Ockham’s Lens”
URL:https://csamp.utoronto.ca/event/csamp-proseminar-simone-luigi-migliaro/
LOCATION:Lillian Massey Building\, Room 205\, 125 Queens Park\, Toronto\, ON\, M5S 2C7\, Canada
ORGANIZER;CN="CSAMP":MAILTO:csamp@utoronto.ca
END:VEVENT
BEGIN:VEVENT
DTSTART;TZID=America/Toronto:20260316T161000
DTEND;TZID=America/Toronto:20260316T180000
DTSTAMP:20260421T115925
CREATED:20251208T185830Z
LAST-MODIFIED:20260118T210049Z
UID:3835-1773677400-1773684000@csamp.utoronto.ca
SUMMARY:CSAMP Proseminar: Julia Petz
DESCRIPTION:Title: “Argumentative Courage in Plato’s Euthydemus”
URL:https://csamp.utoronto.ca/event/csamp-proseminar-reza-hadisi-5/
LOCATION:Lillian Massey Building\, Room 205\, 125 Queens Park\, Toronto\, ON\, M5S 2C7\, Canada
ORGANIZER;CN="CSAMP":MAILTO:csamp@utoronto.ca
END:VEVENT
BEGIN:VEVENT
DTSTART;TZID=America/Toronto:20260309T161000
DTEND;TZID=America/Toronto:20260309T180000
DTSTAMP:20260421T115925
CREATED:20251208T185830Z
LAST-MODIFIED:20260302T124414Z
UID:3834-1773072600-1773079200@csamp.utoronto.ca
SUMMARY:CSAMP Proseminar: Giacomo De Andreis
DESCRIPTION:Title: “The Middle Platonists on Certainty of Belief.”
URL:https://csamp.utoronto.ca/event/csamp-proseminar-giacomo-de-andreis/
LOCATION:Lillian Massey Building\, Room 205\, 125 Queens Park\, Toronto\, ON\, M5S 2C7\, Canada
ORGANIZER;CN="CSAMP":MAILTO:csamp@utoronto.ca
END:VEVENT
BEGIN:VEVENT
DTSTART;TZID=America/Toronto:20260302T161000
DTEND;TZID=America/Toronto:20260302T180000
DTSTAMP:20260421T115925
CREATED:20251208T185830Z
LAST-MODIFIED:20260117T175404Z
UID:3833-1772467800-1772474400@csamp.utoronto.ca
SUMMARY:CSAMP Proseminar: Andrew Summerson
DESCRIPTION:Title: Dionysius the Areopagite on Evil: Platonic Answers from his Earliest Christian Readers
URL:https://csamp.utoronto.ca/event/csamp-proseminar-andrew-summerson-3/
LOCATION:Lillian Massey Building\, Room 205\, 125 Queens Park\, Toronto\, ON\, M5S 2C7\, Canada
ORGANIZER;CN="CSAMP":MAILTO:csamp@utoronto.ca
END:VEVENT
BEGIN:VEVENT
DTSTART;TZID=America/Toronto:20260223T161000
DTEND;TZID=America/Toronto:20260223T180000
DTSTAMP:20260421T115925
CREATED:20251208T185830Z
LAST-MODIFIED:20251210T133501Z
UID:3832-1771863000-1771869600@csamp.utoronto.ca
SUMMARY:CSAMP Proseminar: Emily Hulme-Kozey (University of Sydney)
DESCRIPTION:Title: “Evil Techne?”
URL:https://csamp.utoronto.ca/event/csamp-proseminar-emily-hulme-kozey-university-of-sydney/
LOCATION:Lillian Massey Building\, Room 205\, 125 Queens Park\, Toronto\, ON\, M5S 2C7\, Canada
ORGANIZER;CN="CSAMP":MAILTO:csamp@utoronto.ca
END:VEVENT
BEGIN:VEVENT
DTSTART;VALUE=DATE:20260213
DTEND;VALUE=DATE:20260215
DTSTAMP:20260421T115925
CREATED:20250716T181524Z
LAST-MODIFIED:20260120T212931Z
UID:3531-1770940800-1771113599@csamp.utoronto.ca
SUMMARY:Workshop on Aristotle's Metaphysics M 6-9
DESCRIPTION:Sessions 1-2: room 213\, Department for the Study of Religion\, Jackman Humanities Building\, 170 St. George Street. \nSessions 3-8: room LI220\, Department of Classics\, Lillian Massey Building\, 125 Queens Park. \n  \nFeb. 13 (Friday) \n9.30                 Welcome & Coffee \n9.45-11.15       Session 1: M 6 (Ksenia Romashova) \n11.15-30          Coffee \n11.30-1            Session 2: M 7 1080b37 – 1081b10 (Emily Katz) \n1-3                   Lunch break \n3-4.30             Session 3: M 7 1081b10 – 1082a26 (Ulysse Chaintreuil) \n4.30-6             Session 4: M 7 1082a26 – M 8 1082b37 (Samuel Boudreau / Ismaël Kettani) \n  \nFeb. 14 (Saturday) \n8.45                 Coffee \n9-10.30            Session 5: M 8 1083a1 – b23 (Giulia De Cesaris) \n10.30-12          Session 6: M 8 1083b23 – 1084b2 (Rareș Marinescu) \n12-1                   Lunch break \n1-2.30               Session 7: M 8 1084b2 – M 9 1085b4 (Christian Pfeiffer) \n2.30-4              Session 8: M 9 1085b4 – 1086a21 (Stephen Menn) \n 
URL:https://csamp.utoronto.ca/event/reading-group-on-aristotles-metaphysics-m6-9/
LOCATION:Lillian Massey Building\, Room 220\, 125 Queens Park\, Toronto\, ON\, M5S 2C7\, Canada
ORGANIZER;CN="Rare%C8%99 Marinescu":MAILTO:r.marinescu@utoronto.ca
END:VEVENT
BEGIN:VEVENT
DTSTART;TZID=America/Toronto:20260209T161000
DTEND;TZID=America/Toronto:20260209T180000
DTSTAMP:20260421T115925
CREATED:20251208T185828Z
LAST-MODIFIED:20260117T175457Z
UID:3831-1770653400-1770660000@csamp.utoronto.ca
SUMMARY:CSAMP Proseminar: Diego Garcia Rincon
DESCRIPTION:Title: Powers and Objects in Timaeus’ Argument for Forms (51d–52a)
URL:https://csamp.utoronto.ca/event/csamp-proseminar-diego-garcia-rincon-2/
LOCATION:Lillian Massey Building\, Room 205\, 125 Queens Park\, Toronto\, ON\, M5S 2C7\, Canada
ORGANIZER;CN="CSAMP":MAILTO:csamp@utoronto.ca
END:VEVENT
BEGIN:VEVENT
DTSTART;TZID=America/Toronto:20260202T161000
DTEND;TZID=America/Toronto:20260202T180000
DTSTAMP:20260421T115925
CREATED:20251208T185828Z
LAST-MODIFIED:20260202T122517Z
UID:3830-1770048600-1770055200@csamp.utoronto.ca
SUMMARY:CSAMP Proseminar:  Ulysse Chaintreuil
DESCRIPTION:title: “Indivisible and measure in Aristotle’s Metaphysics Iota”
URL:https://csamp.utoronto.ca/event/csamp-proseminar-ulysse-chaintreuil-2/
LOCATION:Lillian Massey Building\, Room 205\, 125 Queens Park\, Toronto\, ON\, M5S 2C7\, Canada
ORGANIZER;CN="CSAMP":MAILTO:csamp@utoronto.ca
END:VEVENT
BEGIN:VEVENT
DTSTART;TZID=America/Toronto:20260124T090000
DTEND;TZID=America/Toronto:20260124T180000
DTSTAMP:20260421T115925
CREATED:20251027T201229Z
LAST-MODIFIED:20251029T165347Z
UID:3770-1769245200-1769277600@csamp.utoronto.ca
SUMMARY:Workshop: Learning from Within: The Inner Teacher from Socrates to Augustine
DESCRIPTION:Workshop: Learning from Within: The Inner Teacher from Socrates to Augustine\n\nSpeakers:\n\nSarah Byers (Boston College)\nEyjólfur Emilsson (University of Oslo)\nPaige Hochschild (Mount St. Mary’s University)\nThomas Slabon (University of South Florida)\nFr. Andrew Summerson (University of Toronto)\n\nJanuary 24th\, 9am-6pm. Great Hall\, Lillian Massey Building\, 125 Queens Park\n\nFor Workshop flyer see: Learning from Within
URL:https://csamp.utoronto.ca/event/workshop-learning-from-within-the-inner-teacher-from-socrates-to-augustine/
LOCATION:Great Hall\, Lillian Massey Building\, 125 Queens Park
END:VEVENT
BEGIN:VEVENT
DTSTART;TZID=America/Toronto:20260119T161000
DTEND;TZID=America/Toronto:20260119T180000
DTSTAMP:20260421T115925
CREATED:20251208T185828Z
LAST-MODIFIED:20251208T185828Z
UID:3828-1768839000-1768845600@csamp.utoronto.ca
SUMMARY:CSAMP Proseminar: Brad Inwood
DESCRIPTION:title: The Stoics on Time: A Developmental Story
URL:https://csamp.utoronto.ca/event/csamp-proseminar-brad-inwood/
LOCATION:Lillian Massey Building\, Room 205\, 125 Queens Park\, Toronto\, ON\, M5S 2C7\, Canada
ORGANIZER;CN="CSAMP":MAILTO:csamp@utoronto.ca
END:VEVENT
BEGIN:VEVENT
DTSTART;TZID=America/Toronto:20260112T161000
DTEND;TZID=America/Toronto:20260112T180000
DTSTAMP:20260421T115925
CREATED:20251208T185828Z
LAST-MODIFIED:20251210T130400Z
UID:3827-1768234200-1768240800@csamp.utoronto.ca
SUMMARY:CSAMP Proseminar: Marleen Rozemond
DESCRIPTION:Title: “Modes in Suárez\, Descartes\, and Leibniz”
URL:https://csamp.utoronto.ca/event/csamp-proseminar-marleen-rozemond/
LOCATION:Lillian Massey Building\, Room 205\, 125 Queens Park\, Toronto\, ON\, M5S 2C7\, Canada
ORGANIZER;CN="CSAMP":MAILTO:csamp@utoronto.ca
END:VEVENT
BEGIN:VEVENT
DTSTART;TZID=America/Toronto:20251201T161000
DTEND;TZID=America/Toronto:20251201T180000
DTSTAMP:20260421T115925
CREATED:20250904T142545Z
LAST-MODIFIED:20251117T195207Z
UID:3626-1764605400-1764612000@csamp.utoronto.ca
SUMMARY:CSAMP Proseminar: Wim Nijs
DESCRIPTION:Title: “Plutarch on the Dangers and Benefits of Flattery in Private and Public Contexts”
URL:https://csamp.utoronto.ca/event/csamp-proseminar-wim-nijs/
LOCATION:Lillian Massey Building\, Room 301\, 125 Queens Park\, Toronto\, ON\, M5S 2C7\, Canada
ORGANIZER;CN="CSAMP":MAILTO:csamp@utoronto.ca
END:VEVENT
BEGIN:VEVENT
DTSTART;TZID=America/Toronto:20251124T161000
DTEND;TZID=America/Toronto:20251124T180000
DTSTAMP:20260421T115925
CREATED:20250904T142531Z
LAST-MODIFIED:20251117T123052Z
UID:3625-1764000600-1764007200@csamp.utoronto.ca
SUMMARY:CSAMP Proseminar: Peter King
DESCRIPTION:Title: “Augustine: The Truth about Lies”
URL:https://csamp.utoronto.ca/event/csamp-proseminar-peter-king-3/
LOCATION:Lillian Massey Building\, Room 301\, 125 Queens Park\, Toronto\, ON\, M5S 2C7\, Canada
ORGANIZER;CN="CSAMP":MAILTO:csamp@utoronto.ca
END:VEVENT
BEGIN:VEVENT
DTSTART;TZID=America/Toronto:20251117T161000
DTEND;TZID=America/Toronto:20251117T180000
DTSTAMP:20260421T115925
CREATED:20250904T142531Z
LAST-MODIFIED:20250904T150217Z
UID:3624-1763395800-1763402400@csamp.utoronto.ca
SUMMARY:CSAMP Proseminar: Myrthe Bartels
DESCRIPTION:Title: ‘The Philosopher in Prison’
URL:https://csamp.utoronto.ca/event/csamp-proseminar-myrthe-bartels-2/
LOCATION:Lillian Massey Building\, Room 301\, 125 Queens Park\, Toronto\, ON\, M5S 2C7\, Canada
ORGANIZER;CN="CSAMP":MAILTO:csamp@utoronto.ca
END:VEVENT
BEGIN:VEVENT
DTSTART;TZID=America/Toronto:20251114T150000
DTEND;TZID=America/Toronto:20251114T180000
DTSTAMP:20260421T115925
CREATED:20250928T183614Z
LAST-MODIFIED:20251027T194623Z
UID:3749-1763132400-1763143200@csamp.utoronto.ca
SUMMARY:A Celebration of Lloyd Gerson
DESCRIPTION:Martin Pickavé: Welcome \nCarl Séan O’Brien (Irish Dominican House of Studies\, Dublin): “Lloyd Gerson’s Contribution to the Study of Ancient Philosophy” \nSarah Klitenic Wear (Franciscan University\, Steubenville): “The Skopos of Platonic Principles: Essays in Honor of Lloyd Gerson and Giuseppe Blasotta’s Hen Kai Polla” \nJohn Finamore (Iowa): “The constitution of the soul and of the universe in Proclus’ Essay on the Myth of Er” \nLloyd Gerson: Concluding Remarks \nThere will be a reception following the event.
URL:https://csamp.utoronto.ca/event/a-celebration-of-lloyd-gerson/
LOCATION:Jackman Humanities Building\, Room 100\, 170 St. George Street\, Toronto\, ON\, M5R 2M8\, Canada
END:VEVENT
BEGIN:VEVENT
DTSTART;TZID=America/Toronto:20251110T161000
DTEND;TZID=America/Toronto:20251110T180000
DTSTAMP:20260421T115925
CREATED:20250904T142531Z
LAST-MODIFIED:20251109T201709Z
UID:3623-1762791000-1762797600@csamp.utoronto.ca
SUMMARY:CSAMP Proseminar: Pirachula Chulanon
DESCRIPTION:Title: Analogical Concepts: Some Scholastic Background to Kant
URL:https://csamp.utoronto.ca/event/csamp-proseminar-tbd/
LOCATION:Lillian Massey Building\, Room 301\, 125 Queens Park\, Toronto\, ON\, M5S 2C7\, Canada
ORGANIZER;CN="CSAMP":MAILTO:csamp@utoronto.ca
END:VEVENT
BEGIN:VEVENT
DTSTART;VALUE=DATE:20251107
DTEND;VALUE=DATE:20251108
DTSTAMP:20260421T115925
CREATED:20250915T140259Z
LAST-MODIFIED:20250923T132149Z
UID:3706-1762473600-1762559999@csamp.utoronto.ca
SUMMARY:Workshop: Political Knowledge in Plato
DESCRIPTION:Program \n  \n9:00–9:15          Arrival & coffee \n9:15–10:35        Keynote: Melissa Lane (Princeton): “The archē of nomothesia: contextualizing the      emergence of lawgivers in Plato’s Laws” \n10:35–10:50     coffee break \n10:50–12:05     Myrthe Bartels (Toronto): “Is the Slave Doctor Right? Rival Conceptions of Legislation in   Plato’s Laws” \n12:15–1:30         lunch break \n1:30–2:45          John Proios (Chicago): “Learning from Your Environment: Knowledge\, Culture\, and Social Domination” \n2:45–3:00          coffee break \n3:00–4:15           Claudia Yau (Michigan): “Using Forms as Models in Plato’s Republic” \n4:15–4:45           coffee break \n4:45–6:00          Panel led by Diego García R.: Ryan Balot\, Rachel Barney\, Melissa Lane \n  \nFunded by: \nThe Canada Research Chair in Ancient Philosophy \nThe Collaborative Specialization in Ancient and Medieval Philosophy \n  \nConvenors: \nMyrthe Bartels (myrthe.bartels@utoronto.ca) \nDiego García Rincón (d.garcia@mail.utoronto.ca)
URL:https://csamp.utoronto.ca/event/workshop-political-knowledge-in-plato/
LOCATION:OI 8200 at OISE\, 252 Bloor St W\, Toronto\, Ontario\, M5S 1V6\, Canada
ORGANIZER;CN="Myrthe Bartels":MAILTO:myrthe.bartels@utoronto.ca
END:VEVENT
BEGIN:VEVENT
DTSTART;TZID=America/Toronto:20251103T161000
DTEND;TZID=America/Toronto:20251103T180000
DTSTAMP:20260421T115925
CREATED:20250904T142531Z
LAST-MODIFIED:20250904T150046Z
UID:3622-1762186200-1762192800@csamp.utoronto.ca
SUMMARY:CSAMP Proseminar: Diego García Rincón
DESCRIPTION:Title: ‘Pointing at Appearances: Plato’s Receptacle and the Problem of Deixis’
URL:https://csamp.utoronto.ca/event/csamp-proseminar-diego-garcia-rincon/
LOCATION:Lillian Massey Building\, Room 301\, 125 Queens Park\, Toronto\, ON\, M5S 2C7\, Canada
ORGANIZER;CN="CSAMP":MAILTO:csamp@utoronto.ca
END:VEVENT
BEGIN:VEVENT
DTSTART;TZID=America/Toronto:20251020T161000
DTEND;TZID=America/Toronto:20251020T180000
DTSTAMP:20260421T115925
CREATED:20250904T142530Z
LAST-MODIFIED:20250909T153545Z
UID:3621-1760976600-1760983200@csamp.utoronto.ca
SUMMARY:CSAMP Proseminar: Jacqueline Feke (Waterloo)
DESCRIPTION:Title: Ptolemy’s Concept of Simplicity and his Adaptation of Nature Does Nothing in Vain
URL:https://csamp.utoronto.ca/event/csamp-proseminar-jacqueline-feke-waterloo/
LOCATION:Lillian Massey Building\, Room 301\, 125 Queens Park\, Toronto\, ON\, M5S 2C7\, Canada
ORGANIZER;CN="CSAMP":MAILTO:csamp@utoronto.ca
END:VEVENT
BEGIN:VEVENT
DTSTART;TZID=America/Toronto:20251007T153000
DTEND;TZID=America/Toronto:20251007T173000
DTSTAMP:20260421T115925
CREATED:20250919T154723Z
LAST-MODIFIED:20250919T154805Z
UID:3734-1759851000-1759858200@csamp.utoronto.ca
SUMMARY:Masterclass by Pierre-Marie Morel
DESCRIPTION:Pierre-Marie Morel (Paris 1) will lead a masterclass on “Aristotle’s conception of the right measure and its critics”.
URL:https://csamp.utoronto.ca/event/masterclass-by-pierre-marie-morel/
LOCATION:Jackman Humanities Building\, Room 401\, 170 St George St\, Toronto\, ON\, M5R 2M8\, Canada
ORGANIZER;CN="CSAMP":MAILTO:csamp@utoronto.ca
END:VEVENT
BEGIN:VEVENT
DTSTART;TZID=America/Toronto:20251006T161000
DTEND;TZID=America/Toronto:20251006T180000
DTSTAMP:20260421T115925
CREATED:20250904T142530Z
LAST-MODIFIED:20250923T120708Z
UID:3620-1759767000-1759773600@csamp.utoronto.ca
SUMMARY:CSAMP Proseminar: Pierre-Marie Morel (Paris 1)
DESCRIPTION:Title: “Natural normativity in Aristotle’s Ethics: a modest ontology?”
URL:https://csamp.utoronto.ca/event/csamp-proseminar-pierre-marie-morel-paris-1/
LOCATION:Lillian Massey Building\, Room 301\, 125 Queens Park\, Toronto\, ON\, M5S 2C7\, Canada
ORGANIZER;CN="CSAMP":MAILTO:csamp@utoronto.ca
END:VEVENT
BEGIN:VEVENT
DTSTART;TZID=America/Toronto:20251002T141500
DTEND;TZID=America/Toronto:20251003T174500
DTSTAMP:20260421T115925
CREATED:20250919T113310Z
LAST-MODIFIED:20250925T143053Z
UID:3730-1759414500-1759513500@csamp.utoronto.ca
SUMMARY:Workshop on Aristotle’s Metaphysics Iota
DESCRIPTION:Workshop on Aristotle’s Metaphysics Iota (October 2nd – 3rd\, 2025) \nThursday\, Oct. 2:\n14.15-14.30: Welcome \nChair: Ulysse Chaintreuil\n14:30-16:00 Chris Shields (UC San Diego): “Ways to be One“ \nChair: Christian Pfeiffer\n16:15-17:45 Stephen Menn (McGill / UofT): “Unity in Iota and unity in some other books of the Metaphysics” \nFriday\, Oct. 3\nChair: Jessica Gelber\n9:30-11.00 Ulysse Chaintreuil (UofT) “Metaphysics Iota on the oppositions between one and many” \nChair: Rachel Barney\n11:15-12:45 Gábor Betegh (Cambridge): “On the Unity of Iota” \nLunch Break \nChair: Michael Arsenault\n14.30-16:00 Taylor Pincin (Cincinnati): “The Unity of Form\, the Unity of Definition\, and Metaphysics Iota” \nChair: James Allen\n16.15-17:45 Adam Crager (UCLA): “Aporia and Argument in Met. Iota 2” \nThe workshop will be held in Room 418 of the Jackman Humanities Building (170 St. George Street) \nOrganizers: Ulysse Chaintreuil\, Christian Pfeiffer
URL:https://csamp.utoronto.ca/event/workshop-on-aristotles-metaphysics-iota/
LOCATION:Jackman Humanities Building\, Room 418\, 170 St. George Street\, Toronto\, ON\, M5R 2M8\, Canada
END:VEVENT
BEGIN:VEVENT
DTSTART;TZID=America/Toronto:20250929T161000
DTEND;TZID=America/Toronto:20250929T180000
DTSTAMP:20260421T115925
CREATED:20250904T142530Z
LAST-MODIFIED:20250908T115543Z
UID:3619-1759162200-1759168800@csamp.utoronto.ca
SUMMARY:CSAMP Proseminar:  Sophia Connell (Notre Dame)
DESCRIPTION:Title: Aristotle on Nutritive (and Generative) Functioning in Plants
URL:https://csamp.utoronto.ca/event/csamp-proseminar-sophia-connell-notre-dame/
LOCATION:Lillian Massey Building\, Room 301\, 125 Queens Park\, Toronto\, ON\, M5S 2C7\, Canada
ORGANIZER;CN="CSAMP":MAILTO:csamp@utoronto.ca
END:VEVENT
BEGIN:VEVENT
DTSTART;TZID=America/Toronto:20250922T161000
DTEND;TZID=America/Toronto:20250922T180000
DTSTAMP:20260421T115925
CREATED:20250904T142530Z
LAST-MODIFIED:20250908T115729Z
UID:3618-1758557400-1758564000@csamp.utoronto.ca
SUMMARY:CSAMP Proseminar: Michael Arsenault
DESCRIPTION:Title: ‘What is De anima III.3 about?’
URL:https://csamp.utoronto.ca/event/csamp-proseminar-michael-arsenault/
LOCATION:Lillian Massey Building\, Room 301\, 125 Queens Park\, Toronto\, ON\, M5S 2C7\, Canada
ORGANIZER;CN="CSAMP":MAILTO:csamp@utoronto.ca
END:VEVENT
BEGIN:VEVENT
DTSTART;TZID=America/Toronto:20250919T163000
DTEND;TZID=America/Toronto:20250920T181500
DTSTAMP:20260421T115925
CREATED:20250915T114434Z
LAST-MODIFIED:20250915T114434Z
UID:3702-1758299400-1758392100@csamp.utoronto.ca
SUMMARY:2025 University of Toronto Colloquium in Medieval Philosophy
DESCRIPTION:University of Toronto Colloquium in Medieval Philosophy\n2025 \nFRIDAY\, SEPTEMBER 19\nSession I (4:30 – 6:30)\nChair: Boris Hennig (Toronto Metropolitan University)\nYoav Meyrav (University of Hamburg): “Hasdai Crescas and the Ex Uno Principle”\nCommentator: Davlat Dadikhuda (Ludwigs-Maximilians University Munich) \nSATURDAY\, SEPTEMBER 20\nSession II (10:00 – 12:00)\nChair: Giorgio Pini (Fordham University)\nTherese Cory (University of Notre Dame): “The Problem of the Substrate of Thought in\nSome Greek – Arabic – Latin Treatises De Intellectu”\nCommentator: Richard Taylor (Marquette University) \nSession III (2:00 – 4:00)\nChair: Léo Melançon-Thibault (University of Toronto)\nMatthew Wennemann (University of Colorado\, Boulder): “Being and Being This:\nHaecceity and Scotus’s Univocal Concept of Being”\nEmma Emrich (Fordham University): “Richard of Mediavilla on the Relationship between\nForms”\nDiego Espinoza (University of Toronto): “Ockham and Deference to Authority” \nSession IV (4:15 – 6:15)\nChair: Peter Hartman (Loyola University Chicago)\nChristophe Grellard (École Pratique des Hautes Études\, Paris): “The Good\, the Bad and\nthe Ugly. Heroic Virtues and Bestiality in John Buridan’s Ethics”\nCommentator: Aline Medeiros Ramos (Université du Québec à Trois-Rivières/Université\ndu Québec à Montréal) \nAll sessions are free and open to the public and will be held in Room 100 of the\nJackman Humanities Building (170 St. George Street). \nThe colloquium is sponsored by the Department of Philosophy\, the Collaborative\nSpecialization in Ancient and Medieval Philosophy\, the Centre for Medieval Studies\, the\nAnne Tanenbaum Centre for Jewish Studies\, and the Pontifical Institute of Mediaeval\nStudies. \nOrganizers: Deborah Black\, Reza Hadisi\, Peter King\, Jon McGinnis\, and Martin Pickavé
URL:https://csamp.utoronto.ca/event/2025-university-of-toronto-colloquium-in-medieval-philosophy/
LOCATION:Jackman Humanities Building\, Room 100\, 170 St. George Street\, Toronto\, ON\, M5R 2M8\, Canada
END:VEVENT
BEGIN:VEVENT
DTSTART;TZID=America/Toronto:20250915T161000
DTEND;TZID=America/Toronto:20250915T180000
DTSTAMP:20260421T115925
CREATED:20250904T142530Z
LAST-MODIFIED:20250915T113513Z
UID:3617-1757952600-1757959200@csamp.utoronto.ca
SUMMARY:CSAMP Proseminar: Ismaël Kettani
DESCRIPTION:Title: “Ammonius: the soul’s faculties and the introduction of the Rhetoric and Poetics in Aristotle’s logical works”
URL:https://csamp.utoronto.ca/event/csamp-proseminar-ismael-kettani-3/
LOCATION:Lillian Massey Building\, Room 301\, 125 Queens Park\, Toronto\, ON\, M5S 2C7\, Canada
ORGANIZER;CN="CSAMP":MAILTO:csamp@utoronto.ca
END:VEVENT
BEGIN:VEVENT
DTSTART;TZID=America/Toronto:20250908T180000
DTEND;TZID=America/Toronto:20250908T200000
DTSTAMP:20260421T115925
CREATED:20250801T185102Z
LAST-MODIFIED:20250801T185102Z
UID:3577-1757354400-1757361600@csamp.utoronto.ca
SUMMARY:Fall Welcome Back Party
DESCRIPTION:Following the first Proseminar of the year.
URL:https://csamp.utoronto.ca/event/fall-welcome-back-party-2/
LOCATION:Duke of York\, 39 Prince Arthur Avenue\, 39 Prince Arthur Ave.\, Toronto\, Ontario\, M5R 1B2\, Canada
ORGANIZER;CN="CSAMP":MAILTO:csamp@utoronto.ca
END:VEVENT
BEGIN:VEVENT
DTSTART;TZID=America/Toronto:20250908T161000
DTEND;TZID=America/Toronto:20250908T180000
DTSTAMP:20260421T115925
CREATED:20250904T142545Z
LAST-MODIFIED:20251104T201129Z
UID:3627-1757347800-1757354400@csamp.utoronto.ca
SUMMARY:CSAMP Proseminar: Arthur Harris
DESCRIPTION:Title: The Peripatetic Mechanica and the Inquiry into Nature
URL:https://csamp.utoronto.ca/event/csamp-proseminar-tbd-2/
LOCATION:Lillian Massey Building\, Room 301\, 125 Queens Park\, Toronto\, ON\, M5S 2C7\, Canada
ORGANIZER;CN="CSAMP":MAILTO:csamp@utoronto.ca
END:VEVENT
END:VCALENDAR