BEGIN:VCALENDAR
VERSION:2.0
PRODID:-//CSAMP - ECPv6.15.20//NONSGML v1.0//EN
CALSCALE:GREGORIAN
METHOD:PUBLISH
X-ORIGINAL-URL:https://csamp.utoronto.ca
X-WR-CALDESC:Events for CSAMP
REFRESH-INTERVAL;VALUE=DURATION:PT1H
X-Robots-Tag:noindex
X-PUBLISHED-TTL:PT1H
BEGIN:VTIMEZONE
TZID:America/Toronto
BEGIN:DAYLIGHT
TZOFFSETFROM:-0500
TZOFFSETTO:-0400
TZNAME:EDT
DTSTART:20190310T070000
END:DAYLIGHT
BEGIN:STANDARD
TZOFFSETFROM:-0400
TZOFFSETTO:-0500
TZNAME:EST
DTSTART:20191103T060000
END:STANDARD
BEGIN:DAYLIGHT
TZOFFSETFROM:-0500
TZOFFSETTO:-0400
TZNAME:EDT
DTSTART:20200308T070000
END:DAYLIGHT
BEGIN:STANDARD
TZOFFSETFROM:-0400
TZOFFSETTO:-0500
TZNAME:EST
DTSTART:20201101T060000
END:STANDARD
BEGIN:DAYLIGHT
TZOFFSETFROM:-0500
TZOFFSETTO:-0400
TZNAME:EDT
DTSTART:20210314T070000
END:DAYLIGHT
BEGIN:STANDARD
TZOFFSETFROM:-0400
TZOFFSETTO:-0500
TZNAME:EST
DTSTART:20211107T060000
END:STANDARD
END:VTIMEZONE
BEGIN:VEVENT
DTSTART;TZID=America/Toronto:20200928T160000
DTEND;TZID=America/Toronto:20200928T180000
DTSTAMP:20260422T074759
CREATED:20200727T224630Z
LAST-MODIFIED:20200924T153931Z
UID:1242-1601308800-1601316000@csamp.utoronto.ca
SUMMARY:WIP Talk: Fiona Leigh
DESCRIPTION:Please join us as Fiona Leigh (UCL) gives a presentation to the CPAMP Work-in-Progress seminar. Her talk is entitled “Between a Wolf and a Dog: Socrates and Sophistry in the Sophist.”
URL:https://csamp.utoronto.ca/event/wip-talk-fiona-leigh/
LOCATION:ON
END:VEVENT
END:VCALENDAR