BEGIN:VCALENDAR
VERSION:2.0
PRODID:-//CSAMP - ECPv6.15.20//NONSGML v1.0//EN
CALSCALE:GREGORIAN
METHOD:PUBLISH
X-ORIGINAL-URL:https://csamp.utoronto.ca
X-WR-CALDESC:Events for CSAMP
REFRESH-INTERVAL;VALUE=DURATION:PT1H
X-Robots-Tag:noindex
X-PUBLISHED-TTL:PT1H
BEGIN:VTIMEZONE
TZID:America/Toronto
BEGIN:DAYLIGHT
TZOFFSETFROM:-0500
TZOFFSETTO:-0400
TZNAME:EDT
DTSTART:20200308T070000
END:DAYLIGHT
BEGIN:STANDARD
TZOFFSETFROM:-0400
TZOFFSETTO:-0500
TZNAME:EST
DTSTART:20201101T060000
END:STANDARD
BEGIN:DAYLIGHT
TZOFFSETFROM:-0500
TZOFFSETTO:-0400
TZNAME:EDT
DTSTART:20210314T070000
END:DAYLIGHT
BEGIN:STANDARD
TZOFFSETFROM:-0400
TZOFFSETTO:-0500
TZNAME:EST
DTSTART:20211107T060000
END:STANDARD
BEGIN:DAYLIGHT
TZOFFSETFROM:-0500
TZOFFSETTO:-0400
TZNAME:EDT
DTSTART:20220313T070000
END:DAYLIGHT
BEGIN:STANDARD
TZOFFSETFROM:-0400
TZOFFSETTO:-0500
TZNAME:EST
DTSTART:20221106T060000
END:STANDARD
END:VTIMEZONE
BEGIN:VEVENT
DTSTART;TZID=America/Toronto:20211115T040000
DTEND;TZID=America/Toronto:20211115T180000
DTSTAMP:20260422T104758
CREATED:20210911T224948Z
LAST-MODIFIED:20211109T004007Z
UID:1537-1636948800-1636999200@csamp.utoronto.ca
SUMMARY:WiP Talk: Taylor Barinka - 'Truth as Perfection in Plato's Republic'
DESCRIPTION:Taylor Barinka gives his work-in-progress talk\, ‘Truth as Perfection in Plato’s Republic‘\, to the CSAMP Proseminar on November 15\, 4-6 pm. \nVenue: Lilian Massey 301 as well as via Zoom.
URL:https://csamp.utoronto.ca/event/taylor-barinkas-talk-title-tba/
LOCATION:ON
END:VEVENT
END:VCALENDAR