BEGIN:VCALENDAR
VERSION:2.0
PRODID:-//CSAMP - ECPv6.15.20//NONSGML v1.0//EN
CALSCALE:GREGORIAN
METHOD:PUBLISH
X-ORIGINAL-URL:https://csamp.utoronto.ca
X-WR-CALDESC:Events for CSAMP
REFRESH-INTERVAL;VALUE=DURATION:PT1H
X-Robots-Tag:noindex
X-PUBLISHED-TTL:PT1H
BEGIN:VTIMEZONE
TZID:America/Toronto
BEGIN:DAYLIGHT
TZOFFSETFROM:-0500
TZOFFSETTO:-0400
TZNAME:EDT
DTSTART:20210314T070000
END:DAYLIGHT
BEGIN:STANDARD
TZOFFSETFROM:-0400
TZOFFSETTO:-0500
TZNAME:EST
DTSTART:20211107T060000
END:STANDARD
BEGIN:DAYLIGHT
TZOFFSETFROM:-0500
TZOFFSETTO:-0400
TZNAME:EDT
DTSTART:20220313T070000
END:DAYLIGHT
BEGIN:STANDARD
TZOFFSETFROM:-0400
TZOFFSETTO:-0500
TZNAME:EST
DTSTART:20221106T060000
END:STANDARD
BEGIN:DAYLIGHT
TZOFFSETFROM:-0500
TZOFFSETTO:-0400
TZNAME:EDT
DTSTART:20230312T070000
END:DAYLIGHT
BEGIN:STANDARD
TZOFFSETFROM:-0400
TZOFFSETTO:-0500
TZNAME:EST
DTSTART:20231105T060000
END:STANDARD
END:VTIMEZONE
BEGIN:VEVENT
DTSTART;TZID=America/Toronto:20221114T160000
DTEND;TZID=America/Toronto:20221114T180000
DTSTAMP:20260421T234527
CREATED:20220919T173722Z
LAST-MODIFIED:20221031T151420Z
UID:2019-1668441600-1668448800@csamp.utoronto.ca
SUMMARY:Proseminar: Riccardo Strobino
DESCRIPTION:“Impossible! Avicenna on reductio Proofs and the Nature of Conditionals” \n \nDownload Proseminar calendar for Fall 2022
URL:https://csamp.utoronto.ca/event/proseminar-riccardo-strobino/
LOCATION:Lillian Massey Building\, Room 205\, 125 Queens Park\, Toronto\, ON\, M5S 2C7\, Canada
ORGANIZER;CN="CSAMP":MAILTO:csamp@utoronto.ca
END:VEVENT
BEGIN:VEVENT
DTSTART;TZID=America/Toronto:20221117T150000
DTEND;TZID=America/Toronto:20221117T170000
DTSTAMP:20260421T234527
CREATED:20221104T201503Z
LAST-MODIFIED:20221104T201730Z
UID:2084-1668697200-1668704400@csamp.utoronto.ca
SUMMARY:Agnes Callard (Chicago) gives the World Philosophy Day Lecture
DESCRIPTION:Come and hear Dr Agnes Callard\, Associate Professor of Philosophy at the University of Chicago\,  lecture on “The City of Idiots” for the 2022 UNESCO World Philosophy Day!
URL:https://csamp.utoronto.ca/event/agnes-callard-chicago-gives-the-world-philosophy-day-lecture/
LOCATION:George Ignatieff Theatre\, Trinity College\, 15 Devonshire Place\, Toronto\, Ontario\, M5S 2C8\, Canada
END:VEVENT
BEGIN:VEVENT
DTSTART;TZID=America/Toronto:20221121T160000
DTEND;TZID=America/Toronto:20221121T180000
DTSTAMP:20260421T234527
CREATED:20220919T173835Z
LAST-MODIFIED:20220919T173835Z
UID:2021-1669046400-1669053600@csamp.utoronto.ca
SUMMARY:Proseminar: Marleen Rozemond
DESCRIPTION:On Francisco Suárez. \nDownload Proseminar calendar for Fall 2022
URL:https://csamp.utoronto.ca/event/proseminar-marleen-rozemond/
LOCATION:Lillian Massey Building\, Room 205\, 125 Queens Park\, Toronto\, ON\, M5S 2C7\, Canada
ORGANIZER;CN="CSAMP":MAILTO:csamp@utoronto.ca
END:VEVENT
BEGIN:VEVENT
DTSTART;TZID=America/Toronto:20221128T160000
DTEND;TZID=America/Toronto:20221128T180000
DTSTAMP:20260421T234527
CREATED:20220919T173928Z
LAST-MODIFIED:20221128T163456Z
UID:2023-1669651200-1669658400@csamp.utoronto.ca
SUMMARY:Proseminar: George Boys-Stones
DESCRIPTION:Why a workshop on “Philosophy in the Roman Mediterranean”? Why “Towards a History”? \nDownload Proseminar calendar for Fall 2022
URL:https://csamp.utoronto.ca/event/proseminar-george-boys-stones/
LOCATION:Lillian Massey Building\, Room 205\, 125 Queens Park\, Toronto\, ON\, M5S 2C7\, Canada
ORGANIZER;CN="CSAMP":MAILTO:csamp@utoronto.ca
END:VEVENT
END:VCALENDAR