BEGIN:VCALENDAR
VERSION:2.0
PRODID:-//CSAMP - ECPv6.15.20//NONSGML v1.0//EN
CALSCALE:GREGORIAN
METHOD:PUBLISH
X-ORIGINAL-URL:https://csamp.utoronto.ca
X-WR-CALDESC:Events for CSAMP
REFRESH-INTERVAL;VALUE=DURATION:PT1H
X-Robots-Tag:noindex
X-PUBLISHED-TTL:PT1H
BEGIN:VTIMEZONE
TZID:America/Toronto
BEGIN:DAYLIGHT
TZOFFSETFROM:-0500
TZOFFSETTO:-0400
TZNAME:EDT
DTSTART:20220313T070000
END:DAYLIGHT
BEGIN:STANDARD
TZOFFSETFROM:-0400
TZOFFSETTO:-0500
TZNAME:EST
DTSTART:20221106T060000
END:STANDARD
BEGIN:DAYLIGHT
TZOFFSETFROM:-0500
TZOFFSETTO:-0400
TZNAME:EDT
DTSTART:20230312T070000
END:DAYLIGHT
BEGIN:STANDARD
TZOFFSETFROM:-0400
TZOFFSETTO:-0500
TZNAME:EST
DTSTART:20231105T060000
END:STANDARD
BEGIN:DAYLIGHT
TZOFFSETFROM:-0500
TZOFFSETTO:-0400
TZNAME:EDT
DTSTART:20240310T070000
END:DAYLIGHT
BEGIN:STANDARD
TZOFFSETFROM:-0400
TZOFFSETTO:-0500
TZNAME:EST
DTSTART:20241103T060000
END:STANDARD
END:VTIMEZONE
BEGIN:VEVENT
DTSTART;TZID=America/Toronto:20230109T160000
DTEND;TZID=America/Toronto:20230109T180000
DTSTAMP:20260422T030414
CREATED:20230103T145232Z
LAST-MODIFIED:20230103T145232Z
UID:2192-1673280000-1673287200@csamp.utoronto.ca
SUMMARY:Welcome Back talk: Reza Hadisi\, "Towards an Ishrāqī theory of imagination"
DESCRIPTION:Reza Hadisi‘s talk\, which kicks off our Proseminar programme for the new semester\, will focus on Suhrawardī (1154–1191) and his view on the epistemic function of imagination. \nPlease note the default location for Proseminar events in the Winter – LI301 in CMS (one floor up from Classics).
URL:https://csamp.utoronto.ca/event/welcome-back-talk-reza-hadisi-towards-an-ishraqi-theory-of-imagination/
LOCATION:Lillian Massey Building\, Room 301\, 125 Queens Park\, Toronto\, ON\, M5S 2C7\, Canada
ORGANIZER;CN="CSAMP":MAILTO:csamp@utoronto.ca
END:VEVENT
BEGIN:VEVENT
DTSTART;TZID=America/Toronto:20230116T160000
DTEND;TZID=America/Toronto:20230116T180000
DTSTAMP:20260422T030414
CREATED:20230110T222541Z
LAST-MODIFIED:20230110T222541Z
UID:2203-1673884800-1673892000@csamp.utoronto.ca
SUMMARY:Proseminar talk: André Lanoue on the  Orphic influences on Plato's metaphysics
DESCRIPTION:
URL:https://csamp.utoronto.ca/event/andre-lanoue/
LOCATION:Lillian Massey Building\, Room 301\, 125 Queens Park\, Toronto\, ON\, M5S 2C7\, Canada
ORGANIZER;CN="CSAMP":MAILTO:csamp@utoronto.ca
END:VEVENT
BEGIN:VEVENT
DTSTART;TZID=America/Toronto:20230123T160000
DTEND;TZID=America/Toronto:20230123T180000
DTSTAMP:20260422T030414
CREATED:20221202T030853Z
LAST-MODIFIED:20221202T033109Z
UID:2134-1674489600-1674496800@csamp.utoronto.ca
SUMMARY:Proseminar talk: Sosseh Assaturian
DESCRIPTION:Sosseh Assaturian (UTM) will speak to the question: “What are Stoic Cases?”
URL:https://csamp.utoronto.ca/event/csamp-proseminar-sosseh-assaturian/
LOCATION:Lillian Massey Building\, Room 301\, 125 Queens Park\, Toronto\, ON\, M5S 2C7\, Canada
ORGANIZER;CN="CSAMP":MAILTO:csamp@utoronto.ca
END:VEVENT
BEGIN:VEVENT
DTSTART;TZID=America/Toronto:20230130T160000
DTEND;TZID=America/Toronto:20230130T180000
DTSTAMP:20260422T030414
CREATED:20230110T223112Z
LAST-MODIFIED:20230110T223112Z
UID:2207-1675094400-1675101600@csamp.utoronto.ca
SUMMARY:Proseminar talk: Christian Pfeiffer\, "Are Quantities Subjects in the Categories?"
DESCRIPTION:Note: This presentation is part of a series on Aristotle’s Organon in preparation for this year’s ATWAP conference in March.
URL:https://csamp.utoronto.ca/event/pfeiffer-talk/
LOCATION:Lillian Massey Building\, Room 301\, 125 Queens Park\, Toronto\, ON\, M5S 2C7\, Canada
ORGANIZER;CN="CSAMP":MAILTO:csamp@utoronto.ca
END:VEVENT
END:VCALENDAR