BEGIN:VCALENDAR
VERSION:2.0
PRODID:-//CSAMP - ECPv6.15.20//NONSGML v1.0//EN
CALSCALE:GREGORIAN
METHOD:PUBLISH
X-WR-CALNAME:CSAMP
X-ORIGINAL-URL:https://csamp.utoronto.ca
X-WR-CALDESC:Events for CSAMP
REFRESH-INTERVAL;VALUE=DURATION:PT1H
X-Robots-Tag:noindex
X-PUBLISHED-TTL:PT1H
BEGIN:VTIMEZONE
TZID:America/Toronto
BEGIN:DAYLIGHT
TZOFFSETFROM:-0500
TZOFFSETTO:-0400
TZNAME:EDT
DTSTART:20220313T070000
END:DAYLIGHT
BEGIN:STANDARD
TZOFFSETFROM:-0400
TZOFFSETTO:-0500
TZNAME:EST
DTSTART:20221106T060000
END:STANDARD
BEGIN:DAYLIGHT
TZOFFSETFROM:-0500
TZOFFSETTO:-0400
TZNAME:EDT
DTSTART:20230312T070000
END:DAYLIGHT
BEGIN:STANDARD
TZOFFSETFROM:-0400
TZOFFSETTO:-0500
TZNAME:EST
DTSTART:20231105T060000
END:STANDARD
BEGIN:DAYLIGHT
TZOFFSETFROM:-0500
TZOFFSETTO:-0400
TZNAME:EDT
DTSTART:20240310T070000
END:DAYLIGHT
BEGIN:STANDARD
TZOFFSETFROM:-0400
TZOFFSETTO:-0500
TZNAME:EST
DTSTART:20241103T060000
END:STANDARD
END:VTIMEZONE
BEGIN:VEVENT
DTSTART;TZID=America/Toronto:20230911T161000
DTEND;TZID=America/Toronto:20230911T180000
DTSTAMP:20260420T072319
CREATED:20230904T173051Z
LAST-MODIFIED:20230904T173051Z
UID:2511-1694448600-1694455200@csamp.utoronto.ca
SUMMARY:Proseminar: Rareş Marinescu
DESCRIPTION:Rareş Marinescu joins us this year from Leuven as a postdoctoral fellow in the Department of Classics. He starts our Proseminar season with a talk on “Aristotle on Platonic Efficient Causes”
URL:https://csamp.utoronto.ca/event/proseminar-rares-marinescu/
LOCATION:Lillian Massey Building\, Room 301\, 125 Queens Park\, Toronto\, ON\, M5S 2C7\, Canada
ORGANIZER;CN="CSAMP":MAILTO:csamp@utoronto.ca
END:VEVENT
BEGIN:VEVENT
DTSTART;TZID=America/Toronto:20230911T180000
DTEND;TZID=America/Toronto:20230911T200000
DTSTAMP:20260420T072319
CREATED:20230901T154241Z
LAST-MODIFIED:20230901T154241Z
UID:2479-1694455200-1694462400@csamp.utoronto.ca
SUMMARY:Fall Welcome Back Party
DESCRIPTION:Following the first Proseminar of the year.
URL:https://csamp.utoronto.ca/event/fall-welcome-back-party/
LOCATION:Duke of York\, 39 Prince Arthur Ave.\, Toronto\, Ontario\, M5R 1B2
ORGANIZER;CN="CSAMP":MAILTO:csamp@utoronto.ca
END:VEVENT
BEGIN:VEVENT
DTSTART;TZID=America/Toronto:20230918T161000
DTEND;TZID=America/Toronto:20230918T180000
DTSTAMP:20260420T072319
CREATED:20230904T173053Z
LAST-MODIFIED:20230912T015815Z
UID:2513-1695053400-1695060000@csamp.utoronto.ca
SUMMARY:Proseminar: Christian Pfeiffer
DESCRIPTION:Join us for a talk by Christian Pfeiffer on “Categories in H.2”.
URL:https://csamp.utoronto.ca/event/proseminar-christian-pfeiffer/
LOCATION:Lillian Massey Building\, Room 301\, 125 Queens Park\, Toronto\, ON\, M5S 2C7\, Canada
ORGANIZER;CN="CSAMP":MAILTO:csamp@utoronto.ca
END:VEVENT
BEGIN:VEVENT
DTSTART;VALUE=DATE:20230922
DTEND;VALUE=DATE:20230924
DTSTAMP:20260420T072319
CREATED:20230901T153621Z
LAST-MODIFIED:20230905T134733Z
UID:2477-1695340800-1695513599@csamp.utoronto.ca
SUMMARY:University of Toronto Colloquium in Medieval Philosophy 2023
DESCRIPTION:FRIDAY\, SEPTEMBER 22\nSession I (4:30 – 6:30)\nChair: Jennifer Hart Weed (University of New Brunswick)\nPasquale Porro (University of Turin): “How does God’s Knowledge Differ from Tiresias’ Oracles? Revisiting Boethius’ Consolation of Philosophy\, Book V”\nCommentator: Martin Pickavé (University of Toronto) \nSATURDAY\, SEPTEMBER 23\nSession II (10:00 – 12:00)\nChair: Thérèse-Anne Druart (Catholic University of America)\nMeryem Sebti (CNRS\, Paris): “Imagination and Individuality of the Soul in Avicenna’s Philosophy”\nCommentator: Seyed Mousavian (Loyola University Chicago) \nSession III (2:00 – 4:00)\nChair: Simona Vucu (University of Toronto)\nRui Xu (University of Toronto): “Henry of Ghent on Creation”\nDominic LaMantia (Notre Dame): “Identity and Real Distinction According to Duns Scotus” \nNick Westberg (Boston College): “Reexamining Suárez’s Theory of Logical Possibility” \nSession IV (4:15 – 6:15)\nChair: Peter Eardley (University of Guelph)\nJean-Luc Solère (Boston College): “On the Constant Attention of the Soul: in Defense of Olivi”\nCommentator: Giorgio Pini (Fordham University) \nAll sessions are free and open to the public and will be held in Room 100 of the Jackman Humanities Building (170 St. George Street). The colloquium is sponsored by the Department of Philosophy\, the Collaborative Specialization in Ancient and Medieval Philosophy\, the Department of Near & Middle Eastern Civilizations\, and the Centre for Medieval Studies.\nOrganizers: Deborah Black\, Peter King\, Martin Pickavé \nhttps://philosophy.utoronto.ca/event/toronto-colloquium-medieval-philosophy-2023-2/
URL:https://csamp.utoronto.ca/event/annual-colloquium-in-medieval-philosophy/
LOCATION:ON
ORGANIZER;CN="CSAMP":MAILTO:csamp@utoronto.ca
END:VEVENT
BEGIN:VEVENT
DTSTART;TZID=America/Toronto:20230925T161000
DTEND;TZID=America/Toronto:20230925T180000
DTSTAMP:20260420T072319
CREATED:20230904T173054Z
LAST-MODIFIED:20230923T170728Z
UID:2514-1695658200-1695664800@csamp.utoronto.ca
SUMMARY:Proseminar: Peter King
DESCRIPTION:Peter King (Philosophy/CMS) will discuss “Abelard on Naming\, Saying\, and Truthmaking”. If possible\, please have a look at these texts beforehand
URL:https://csamp.utoronto.ca/event/proseminar-peter-king/
LOCATION:Lillian Massey Building\, Room 301\, 125 Queens Park\, Toronto\, ON\, M5S 2C7\, Canada
ORGANIZER;CN="CSAMP":MAILTO:csamp@utoronto.ca
END:VEVENT
END:VCALENDAR