BEGIN:VCALENDAR
VERSION:2.0
PRODID:-//CSAMP - ECPv6.15.20//NONSGML v1.0//EN
CALSCALE:GREGORIAN
METHOD:PUBLISH
X-WR-CALNAME:CSAMP
X-ORIGINAL-URL:https://csamp.utoronto.ca
X-WR-CALDESC:Events for CSAMP
REFRESH-INTERVAL;VALUE=DURATION:PT1H
X-Robots-Tag:noindex
X-PUBLISHED-TTL:PT1H
BEGIN:VTIMEZONE
TZID:America/Toronto
BEGIN:DAYLIGHT
TZOFFSETFROM:-0500
TZOFFSETTO:-0400
TZNAME:EDT
DTSTART:20230312T070000
END:DAYLIGHT
BEGIN:STANDARD
TZOFFSETFROM:-0400
TZOFFSETTO:-0500
TZNAME:EST
DTSTART:20231105T060000
END:STANDARD
BEGIN:DAYLIGHT
TZOFFSETFROM:-0500
TZOFFSETTO:-0400
TZNAME:EDT
DTSTART:20240310T070000
END:DAYLIGHT
BEGIN:STANDARD
TZOFFSETFROM:-0400
TZOFFSETTO:-0500
TZNAME:EST
DTSTART:20241103T060000
END:STANDARD
BEGIN:DAYLIGHT
TZOFFSETFROM:-0500
TZOFFSETTO:-0400
TZNAME:EDT
DTSTART:20250309T070000
END:DAYLIGHT
BEGIN:STANDARD
TZOFFSETFROM:-0400
TZOFFSETTO:-0500
TZNAME:EST
DTSTART:20251102T060000
END:STANDARD
END:VTIMEZONE
BEGIN:VEVENT
DTSTART;TZID=America/Toronto:20240108T160000
DTEND;TZID=America/Toronto:20240108T180000
DTSTAMP:20260419T210132
CREATED:20231201T221218Z
LAST-MODIFIED:20240103T172027Z
UID:2664-1704729600-1704736800@csamp.utoronto.ca
SUMMARY:Peter King\, Aquinas on the Eucharist: A Metaphysical Switch
DESCRIPTION:CSAMP Proseminar talk.
URL:https://csamp.utoronto.ca/event/csamp-proseminar-katharine-oreilly-utm/
LOCATION:Lillian Massey Building\, Room 205\, 125 Queens Park\, Toronto\, ON\, M5S 2C7\, Canada
CATEGORIES:Proseminar
ORGANIZER;CN="CSAMP":MAILTO:csamp@utoronto.ca
END:VEVENT
BEGIN:VEVENT
DTSTART;TZID=America/Toronto:20240115T160000
DTEND;TZID=America/Toronto:20240115T180000
DTSTAMP:20260419T210132
CREATED:20231201T221218Z
LAST-MODIFIED:20240108T144133Z
UID:2665-1705334400-1705341600@csamp.utoronto.ca
SUMMARY:Peter Bayer\, Recollection in the Platonic Tradition
DESCRIPTION:CSAMP Proseminar.
URL:https://csamp.utoronto.ca/event/csamp-proseminar-peter-bayer/
LOCATION:Lillian Massey Building\, Room 205\, 125 Queens Park\, Toronto\, ON\, M5S 2C7\, Canada
CATEGORIES:Proseminar
ORGANIZER;CN="CSAMP":MAILTO:csamp@utoronto.ca
END:VEVENT
BEGIN:VEVENT
DTSTART;TZID=America/Toronto:20240122T160000
DTEND;TZID=America/Toronto:20240122T180000
DTSTAMP:20260419T210132
CREATED:20231201T221218Z
LAST-MODIFIED:20240103T172118Z
UID:2666-1705939200-1705946400@csamp.utoronto.ca
SUMMARY:Alison Keith\, Epicurean Philosophy in Flavian Rome
DESCRIPTION:CSAMP Proseminar talk.
URL:https://csamp.utoronto.ca/event/csamp-proseminar-alison-keith/
LOCATION:Lillian Massey Building\, Room 205\, 125 Queens Park\, Toronto\, ON\, M5S 2C7\, Canada
CATEGORIES:Proseminar
ORGANIZER;CN="CSAMP":MAILTO:csamp@utoronto.ca
END:VEVENT
BEGIN:VEVENT
DTSTART;TZID=America/Toronto:20240129T160000
DTEND;TZID=America/Toronto:20240129T180000
DTSTAMP:20260419T210132
CREATED:20231201T221218Z
LAST-MODIFIED:20231221T204003Z
UID:2667-1706544000-1706551200@csamp.utoronto.ca
SUMMARY:Lloyd Gerson\, Taking Plato Seriously: Proclus as Exegete
DESCRIPTION:CSAMP Proseminar Talk
URL:https://csamp.utoronto.ca/event/csamp-proseminar-lloyd-gerson-2/
LOCATION:Lillian Massey Building\, Room 205\, 125 Queens Park\, Toronto\, ON\, M5S 2C7\, Canada
ORGANIZER;CN="CSAMP":MAILTO:csamp@utoronto.ca
END:VEVENT
END:VCALENDAR