BEGIN:VCALENDAR
VERSION:2.0
PRODID:-//CSAMP - ECPv6.15.20//NONSGML v1.0//EN
CALSCALE:GREGORIAN
METHOD:PUBLISH
X-WR-CALNAME:CSAMP
X-ORIGINAL-URL:https://csamp.utoronto.ca
X-WR-CALDESC:Events for CSAMP
REFRESH-INTERVAL;VALUE=DURATION:PT1H
X-Robots-Tag:noindex
X-PUBLISHED-TTL:PT1H
BEGIN:VTIMEZONE
TZID:America/Toronto
BEGIN:DAYLIGHT
TZOFFSETFROM:-0500
TZOFFSETTO:-0400
TZNAME:EDT
DTSTART:20230312T070000
END:DAYLIGHT
BEGIN:STANDARD
TZOFFSETFROM:-0400
TZOFFSETTO:-0500
TZNAME:EST
DTSTART:20231105T060000
END:STANDARD
BEGIN:DAYLIGHT
TZOFFSETFROM:-0500
TZOFFSETTO:-0400
TZNAME:EDT
DTSTART:20240310T070000
END:DAYLIGHT
BEGIN:STANDARD
TZOFFSETFROM:-0400
TZOFFSETTO:-0500
TZNAME:EST
DTSTART:20241103T060000
END:STANDARD
BEGIN:DAYLIGHT
TZOFFSETFROM:-0500
TZOFFSETTO:-0400
TZNAME:EDT
DTSTART:20250309T070000
END:DAYLIGHT
BEGIN:STANDARD
TZOFFSETFROM:-0400
TZOFFSETTO:-0500
TZNAME:EST
DTSTART:20251102T060000
END:STANDARD
END:VTIMEZONE
BEGIN:VEVENT
DTSTART;VALUE=DATE:20240527
DTEND;VALUE=DATE:20240602
DTSTAMP:20260419T140545
CREATED:20230915T212320Z
LAST-MODIFIED:20231220T182747Z
UID:2556-1716768000-1717286399@csamp.utoronto.ca
SUMMARY:Athens Summer Reading Group in Greek Philosophy
DESCRIPTION:We are running another residential Greek philosophy reading group in Athens this summer\, along with our friends from Turin. Current CSAMP PhD students have priority for places. Our text will be Aristotle\, De Caelo 1. As last year\, we will be based in the British School at Athens\, from 27th May – 1st June 2024 (which means we will be there for the 2024 Michael Frede Memorial Lecture as well). Accommodation will be provided without charge at the British School; travel bursaries are available.
URL:https://csamp.utoronto.ca/event/athens-residential-reading-group/
LOCATION:ON
ORGANIZER;CN="CSAMP":MAILTO:csamp@utoronto.ca
END:VEVENT
BEGIN:VEVENT
DTSTART;VALUE=DATE:20240605
DTEND;VALUE=DATE:20240606
DTSTAMP:20260419T140545
CREATED:20240401T170446Z
LAST-MODIFIED:20240401T170446Z
UID:2863-1717545600-1717631999@csamp.utoronto.ca
SUMMARY:Ibn ‘Arabi and His Reception in the Shi’a Philosophical Tradition
DESCRIPTION:Please follow the link to find out more about this event.
URL:https://csamp.utoronto.ca/event/ibn-arabi-and-his-reception-in-the-shia-philosophical-tradition/
LOCATION:Jackman Humanities Building\, Room 100\, 170 St. George Street\, Toronto\, ON\, M5R 2M8\, Canada
END:VEVENT
END:VCALENDAR